BEGIN:VCALENDAR
VERSION:2.0
PRODID:-//Město Strážov a okolí - ECPv6.15.20//NONSGML v1.0//EN
CALSCALE:GREGORIAN
METHOD:PUBLISH
X-ORIGINAL-URL:https://mesto.strazov.cz
X-WR-CALDESC:Akce na Město Strážov a okolí
REFRESH-INTERVAL;VALUE=DURATION:PT1H
X-Robots-Tag:noindex
X-PUBLISHED-TTL:PT1H
BEGIN:VTIMEZONE
TZID:Europe/Prague
BEGIN:DAYLIGHT
TZOFFSETFROM:+0100
TZOFFSETTO:+0200
TZNAME:CEST
DTSTART:20250330T010000
END:DAYLIGHT
BEGIN:STANDARD
TZOFFSETFROM:+0200
TZOFFSETTO:+0100
TZNAME:CET
DTSTART:20251026T010000
END:STANDARD
BEGIN:DAYLIGHT
TZOFFSETFROM:+0100
TZOFFSETTO:+0200
TZNAME:CEST
DTSTART:20260329T010000
END:DAYLIGHT
BEGIN:STANDARD
TZOFFSETFROM:+0200
TZOFFSETTO:+0100
TZNAME:CET
DTSTART:20261025T010000
END:STANDARD
BEGIN:DAYLIGHT
TZOFFSETFROM:+0100
TZOFFSETTO:+0200
TZNAME:CEST
DTSTART:20270328T010000
END:DAYLIGHT
BEGIN:STANDARD
TZOFFSETFROM:+0200
TZOFFSETTO:+0100
TZNAME:CET
DTSTART:20271031T010000
END:STANDARD
END:VTIMEZONE
BEGIN:VEVENT
DTSTART;TZID=Europe/Prague:20260109T190000
DTEND;TZID=Europe/Prague:20260109T220000
DTSTAMP:20260421T151454
CREATED:20251221T145040Z
LAST-MODIFIED:20251221T145440Z
UID:47435-1767985200-1767996000@mesto.strazov.cz
SUMMARY:Výroční valná hromada SDH Zahorčice 2026
DESCRIPTION:SDH Zahorčice zve všechny své členy na výroční valnou hromadu\, která proběhne v pátek 9. ledna 2026 od 19.00 hodin v klubovně v Zahorčicích. \nČlenové se sejdou\, aby společně zhodnotili uplynulý rok\, projednali plány na další období a posílili týmového ducha. Setkání nabídne prostor pro diskusi\, návrhy i přátelské rozhovory.
URL:https://mesto.strazov.cz/akce/vyrocni-valna-hromada-sdh-zahorcice-2026/
LOCATION:Klubovna SDH\, Zahorčice
ATTACH;FMTTYPE=image/jpeg:https://mesto.strazov.cz/wp-content/uploads/2025/05/IMG_4513.jpg
END:VEVENT
BEGIN:VEVENT
DTSTART;TZID=Europe/Prague:20260110T190000
DTEND;TZID=Europe/Prague:20260110T220000
DTSTAMP:20260421T151454
CREATED:20251221T145841Z
LAST-MODIFIED:20251221T150156Z
UID:47454-1768071600-1768082400@mesto.strazov.cz
SUMMARY:Výroční valná hromada SDH Rovná 2026
DESCRIPTION:SDH Rovná zve všechny své členy na výroční valnou hromadu\, která proběhne v sobotu 10. ledna 2026 od 19.00 hodin v hostinci na Opálce. \nČlenové se setkají\, aby společně zhodnotili uplynulý rok\, představili nové plány a posílili spolupráci v rámci sboru. Setkání nabídne prostor pro otevřenou diskusi i přátelské rozhovory.
URL:https://mesto.strazov.cz/akce/vyrocni-valna-hromada-sdh-rovna-2026/
LOCATION:Hospoda na Opálce
ATTACH;FMTTYPE=image/jpeg:https://mesto.strazov.cz/wp-content/uploads/2025/05/IMG_4513.jpg
END:VEVENT
BEGIN:VEVENT
DTSTART;TZID=Europe/Prague:20260116T190000
DTEND;TZID=Europe/Prague:20260117T020000
DTSTAMP:20260421T151454
CREATED:20251221T173107Z
LAST-MODIFIED:20251221T173317Z
UID:47464-1768590000-1768615200@mesto.strazov.cz
SUMMARY:Myslivecký bál 2026
DESCRIPTION:Myslivecký spolek Strážov pořádá tradiční Myslivecký bál\, který proběhne v pátek 16. ledna 2026 od 19:00 v Sokolovně ve Strážově. \nHudba zahraje k tanci i poslechu\, tombola nabídne hodnotné ceny a bar připraví občerstvení pro každého. Výzdoba navodí slavnostní atmosféru a večer zpříjemní přátelská setkání. \nPřijďte si užít společenský večer plný pohody\, tradic a zábavy. Myslivci ze Strážova se těší na vaši účast!
URL:https://mesto.strazov.cz/akce/myslivecky-bal-2026/
LOCATION:Sokolovna\, Strážov\, Strážov\, PK\, 34021\, Czech Republic
END:VEVENT
BEGIN:VEVENT
DTSTART;TZID=Europe/Prague:20260117T190000
DTEND;TZID=Europe/Prague:20260117T220000
DTSTAMP:20260421T151454
CREATED:20251221T174302Z
LAST-MODIFIED:20251221T181722Z
UID:47473-1768676400-1768687200@mesto.strazov.cz
SUMMARY:Výroční valná hromada SDH Horní Němčice 2026
DESCRIPTION:SDH Horní Němčice zve všechny své členy na výroční valnou hromadu\, která proběhne v sobotu 17. ledna 2026 od 19:00 v klubovně ve Vitni. \nProgram večera zahrne shrnutí uplynulého roku\, plánování akcí na rok 2026 a prostor pro diskuzi. Po oficiální části následuje neformální posezení s občerstvením. \nPřijďte osobně podpořit činnost sboru a zapojit se do plánování dalšího roku.
URL:https://mesto.strazov.cz/akce/vyrocni-valna-hromada-sdh-horni-nemcice-2026/
LOCATION:Klubovna SDH\, Víteň\, Viteň 15\, Strážov\, PK\, 34021\, Czech Republic
ATTACH;FMTTYPE=image/jpeg:https://mesto.strazov.cz/wp-content/uploads/2025/05/IMG_4514.jpg
END:VEVENT
BEGIN:VEVENT
DTSTART;TZID=Europe/Prague:20260123T190000
DTEND;TZID=Europe/Prague:20260123T220000
DTSTAMP:20260421T151454
CREATED:20251221T174822Z
LAST-MODIFIED:20251221T174822Z
UID:47484-1769194800-1769205600@mesto.strazov.cz
SUMMARY:Výroční valná hromada hasičského okrsku 2026
DESCRIPTION:Hasičský okrsek zve všechny své členy na výroční valnou hromadu\, která proběhne v pátek 23. ledna 2026 od 19:00 v klubovně ve Vitni. \nSetkání nabídne shrnutí uplynulého roku\, plánování činnosti na rok 2026 a prostor pro diskuzi. Po oficiální části následuje přátelské posezení.
URL:https://mesto.strazov.cz/akce/vyrocni-valna-hromada-hasicskeho-okrsku-2026/
LOCATION:Klubovna SDH\, Víteň\, Viteň 15\, Strážov\, PK\, 34021\, Czech Republic
ATTACH;FMTTYPE=image/jpeg:https://mesto.strazov.cz/wp-content/uploads/2025/05/IMG_4538.jpg
END:VEVENT
BEGIN:VEVENT
DTSTART;TZID=Europe/Prague:20260207T200000
DTEND;TZID=Europe/Prague:20260208T020000
DTSTAMP:20260421T151454
CREATED:20251221T181153Z
LAST-MODIFIED:20251221T181153Z
UID:47499-1770494400-1770516000@mesto.strazov.cz
SUMMARY:Ples SDH Viteň 2026
DESCRIPTION:
URL:https://mesto.strazov.cz/akce/ples-sdh-viten-2026/
LOCATION:Sokolovna\, Strážov\, Strážov\, PK\, 34021\, Czech Republic
END:VEVENT
BEGIN:VEVENT
DTSTART;TZID=Europe/Prague:20260314T200000
DTEND;TZID=Europe/Prague:20260315T020000
DTSTAMP:20260421T151454
CREATED:20251221T181400Z
LAST-MODIFIED:20251221T181400Z
UID:47503-1773518400-1773540000@mesto.strazov.cz
SUMMARY:Ples SDH Strážov
DESCRIPTION:
URL:https://mesto.strazov.cz/akce/ples-sdh-strazov/
LOCATION:Sokolovna\, Strážov\, Strážov\, PK\, 34021\, Czech Republic
END:VEVENT
BEGIN:VEVENT
DTSTART;TZID=Europe/Prague:20260410T080000
DTEND;TZID=Europe/Prague:20260410T170000
DTSTAMP:20260421T151454
CREATED:20260328T071051Z
LAST-MODIFIED:20260328T074317Z
UID:47745-1775808000-1775840400@mesto.strazov.cz
SUMMARY:Dosledy v praxi
DESCRIPTION:Myslivecký spolek Strážov na Šumavě vás srdečně zve na neformální povídání věnované tématu dosledů postřelené zvěře. \nBěhem setkání se dozvíte: \n\nkdy a jak správně provádět dosled\njak postupovat po postřelení zvěře\nna co si dát pozor a jakým chybám se vyhnout\njaké jsou charakteristiky vybraných postřelů a specifika jejich dosledů\nzkušenosti\, zážitky i poučení z reálných situací\nukázky fotografií a videí z praxe\n\nNení ostudou zvěř postřelit\, ale dosled neprovést. \n📅 Termín a místo\nPátek 10. dubna 2026 od 17:00\nSokolovna Strážov\nStrážov 236\, okres Klatovy \n📞 Rezervace\nTelefon: 723 835 656
URL:https://mesto.strazov.cz/akce/dosledy-v-praxi/
LOCATION:Sokolovna\, Strážov\, Strážov\, PK\, 34021\, Czech Republic
ATTACH;FMTTYPE=image/jpeg:https://mesto.strazov.cz/wp-content/uploads/2026/03/d.jpg
END:VEVENT
BEGIN:VEVENT
DTSTART;TZID=Europe/Prague:20260411T080000
DTEND;TZID=Europe/Prague:20260411T083000
DTSTAMP:20260421T151454
CREATED:20260328T072108Z
LAST-MODIFIED:20260328T082214Z
UID:47754-1775894400-1775896200@mesto.strazov.cz
SUMMARY:Velikonoční pálka 2026
DESCRIPTION:TJ Sokol Strážov vás srdečně zve na tradiční sportovní setkání\, které každoročně přináší skvělou atmosféru\, přátelské souboje a příjemně strávené dopoledne.\nLetos se opět můžete těšit na oblíbený turnaj ve stolním tenisu „VELIKONOČNÍ PÁLKA“\, jenž je otevřený všem hráčům – zkušeným i začínajícím\, místním i přespolním\, dospělým i mládeži. \nAkce je ideální příležitostí\, jak si aktivně užít velikonoční víkend\, potkat známé tváře\, poměřit síly s ostatními hráči a užít si sport v pohodové sokolské atmosféře. Turnaj probíhá v duchu fair play a dobré nálady\, takže se nemusíte bát přijít i v případě\, že stolní tenis hrajete jen rekreačně. \n📅 Kdy se hraje\nSobota 11. dubna 2026 \n📍 Kde\nSokolovna Strážov \n🕗 Prezentace hráčů\n8:00 – 8:30 \nPo prezentaci bude následovat rozlosování a zahájení turnaje. Očekávat můžete několik herních kategorií podle počtu účastníků\, zajištěné zázemí v sokolovně a tradičně i příjemné občerstvení. \nPřijďte si zahrát\, povzbudit své favority nebo jen nasát sportovní atmosféru. Těšíme se na všechny\, kteří mají chuť strávit sobotní dopoledne aktivně a v dobré společnosti.
URL:https://mesto.strazov.cz/akce/velikonocni-palka-2026/
LOCATION:Sokolovna\, Strážov\, Strážov\, PK\, 34021\, Czech Republic
ATTACH;FMTTYPE=image/jpeg:https://mesto.strazov.cz/wp-content/uploads/2026/03/palka2026.jpg
END:VEVENT
BEGIN:VEVENT
DTSTART;TZID=Europe/Prague:20260417T180000
DTEND;TZID=Europe/Prague:20260417T200000
DTSTAMP:20260421T151454
CREATED:20260328T072855Z
LAST-MODIFIED:20260328T073048Z
UID:47762-1776448800-1776456000@mesto.strazov.cz
SUMMARY:Rys ostrovid a vydra říční 2026
DESCRIPTION:Myslivecký spolek Strážov vás srdečně zve na zajímavou přednášku o dvou fascinujících obyvatelích naší přírody.\nDozvíte se více o životě rysa ostrovida a vydry říční\, jejich zvycích\, výskytu i ochraně. Přednáška je určena všem\, kteří se zajímají o přírodu\, myslivost nebo ochranu ohrožených druhů. Součástí programu budou fotografie\, videa a prostor pro dotazy a diskuzi s odborníky. Akce proběhne v přátelské atmosféře\, vhodná je i pro rodiny s dětmi a školní mládež. Přijďte si rozšířit obzory a dozvědět se\, jak žijí tito plachí a vzácní savci. Těšíme se na vaši účast a společné poznávání krás české přírody. \n📅 Termín\nPátek 17. dubna 2026 od 18:00 \n📍 Místo\nRadnice ve Strážově
URL:https://mesto.strazov.cz/akce/rys-ostrovid-a-vydra-ricni-2026/
LOCATION:Zasedací místnosti na MěÚ ve Strážově\, Náměstí 71\, Janovice nad Úhlavou\, PK\, 34021\, Czech Republic
ATTACH;FMTTYPE=image/jpeg:https://mesto.strazov.cz/wp-content/uploads/2026/03/rys2026.jpg
END:VEVENT
BEGIN:VEVENT
DTSTART;VALUE=DATE:20260425
DTEND;VALUE=DATE:20260427
DTSTAMP:20260421T151454
CREATED:20260405T050947Z
LAST-MODIFIED:20260405T051051Z
UID:47791-1777075200-1777247999@mesto.strazov.cz
SUMMARY:Jarní pouť Strážov 2026
DESCRIPTION:Srdečně Vás zveme na tradiční Jarní pouť 2026\, která oživí strážovské náměstí o víkendu 25. a 26. dubna 2026. Jaro už klepe na dveře\, a tak nastal ideální čas vyrazit ven\, potkat známé tváře a užít si pohodovou atmosféru jedné z nejoblíbenějších místních akcí. \nCo Vás čeká? \nPouťové atrakce pro děti i dospělé\nNáměstí se během víkendu promění v pestrý svět zábavy. Děti si užijí kolotoče\, houpačky\, střelnici i skákací hrad. Rodiče si mezitím odpočinou v pivní zahradě\, kde je čeká příjemné posezení a občerstvení. \nVýstavy v radnici\nPo oba dny můžete navštívit tematické výstavy v budově místní radnice. Dveře se otevírají vždy od 10:00 do 17:00. Ideální zastávka pro všechny\, kdo mají rádi kulturu a historii. \nCírkevní program\nV neděli v 11:30 proběhne v kostele sv. Jiří mše svatá\, která tradičně doplňuje program pouti a nabízí chvíli klidu uprostřed víkendového dění. \nSportovní utkání\nNedělní odpoledne zpestří fotbalové utkání strážovské staré gardy na hřišti SK Kovodružstva Strážov. Zápas začíná v 15:00 a připomene dlouhou sportovní tradici našeho města. \nPřijďte si užít jarní atmosféru\nJarní pouť nabízí skvělou příležitost strávit čas s rodinou\, přáteli i sousedy. Čeká Vás pohodový víkend plný zábavy\, tradic a setkání. \nTěšíme se na Vás
URL:https://mesto.strazov.cz/akce/jarni-pout-strazov-2026/
LOCATION:Náměstí ve Strážově\, Náměstí 71\, Strážov\, Plzeňský kraj\, 34021\, Czech Republic
ATTACH;FMTTYPE=image/png:https://mesto.strazov.cz/wp-content/uploads/2025/04/poutstrazov.png
ORGANIZER;CN="M%C4%9Bstsk%C3%BD %C3%BA%C5%99ad Str%C3%A1%C5%BEov":MAILTO:urad@mestostrazov.cz
END:VEVENT
BEGIN:VEVENT
DTSTART;TZID=Europe/Prague:20260430T170000
DTEND;TZID=Europe/Prague:20260430T220000
DTSTAMP:20260421T151454
CREATED:20260328T073805Z
LAST-MODIFIED:20260328T073805Z
UID:47771-1777568400-1777586400@mesto.strazov.cz
SUMMARY:Stavění májky a společné posezení 2026
DESCRIPTION:SDH Strážov vás srdečně zve na tradiční jarní setkání na náměstí ve Strážově. Společně postavíme Májku\, symbol jara\, života a vesnické tradice.\nPřijďte si užít příjemné odpoledne plné pohody. Po stavbě nás čeká posezení u ohně a opékání dobrot. Občerstvení bude zajištěno ve voze od 17.00 hodin. Akce je vhodná pro všechny generace\, děti i dospělé. Těšit se můžete na přátelskou atmosféru a společné zážitky. Přijďte s rodinou\, přáteli nebo jen tak\, jste vítáni. Pomozte nám udržet krásnou tradici\, která spojuje naši obec. \nTěšíme se na vás v pátek na náměstí ve Strážov
URL:https://mesto.strazov.cz/akce/staveni-majky-a-spolecne-posezeni-2026/
LOCATION:Náměstí ve Strážově\, Náměstí 71\, Strážov\, Plzeňský kraj\, 34021\, Czech Republic
ATTACH;FMTTYPE=image/jpeg:https://mesto.strazov.cz/wp-content/uploads/2026/03/majka2026.jpg
END:VEVENT
BEGIN:VEVENT
DTSTART;TZID=Europe/Prague:20260505T104500
DTEND;TZID=Europe/Prague:20260505T113000
DTSTAMP:20260421T151454
CREATED:20260405T051729Z
LAST-MODIFIED:20260405T051729Z
UID:47800-1777977900-1777980600@mesto.strazov.cz
SUMMARY:Kolona amerických vozidel 2026
DESCRIPTION:Zveme vás na jedinečnou podívanou\, která oživí strážovské náměstí v pondělí 5. května 2026. Do města dorazí kolona amerických historických vozidel a nabídne všem návštěvníkům skvělou příležitost zažít atmosféru\, která připomíná slavnou cestu armády generála Pattona. \nKdy a kde?\nNáměstí ve Strážově\n10:45–11:30 \nBěhem necelé hodiny budete mít možnost projít si kolonu zblízka\, obdivovat pečlivě udržované stroje a popovídat si s nadšenci z 4. obrněné Prácheňské jízdy\, kteří každoročně vyrážejí na symbolickou jízdu po stopách osvobozovacích jednotek. \nProč dorazit?\nUvidíte unikátní historická vozidla v perfektní kondici\, Poznáte příběhy lidí\, kteří se dlouhodobě věnují vojenské historii\, Zažijete atmosféru\, která připomíná významné okamžiky našich dějin\, Užijete si nevšední program přímo v centru města \nPřijďte si užít výjimečné dopoledne\nKolona projede Strážovem jen na krátkou chvíli\, tak si tuto příležitost nenechte utéct. Těšíme se na vás na náměstí! \nKolona amerických vozidel 2024 – Město Strážov a okolí
URL:https://mesto.strazov.cz/akce/kolona-americkych-vozidel-2026/
LOCATION:Náměstí ve Strážově\, Náměstí 71\, Strážov\, Plzeňský kraj\, 34021\, Czech Republic
ATTACH;FMTTYPE=image/jpeg:https://mesto.strazov.cz/wp-content/uploads/2025/04/IMG_4009.jpg
END:VEVENT
BEGIN:VEVENT
DTSTART;TZID=Europe/Prague:20260509T083000
DTEND;TZID=Europe/Prague:20260509T110000
DTSTAMP:20260421T151454
CREATED:20260419T111841Z
LAST-MODIFIED:20260419T111923Z
UID:47835-1778315400-1778324400@mesto.strazov.cz
SUMMARY:Vítání ptačího zpěvu 2026
DESCRIPTION:Rádi bychom vás srdečně pozvali na jedinečnou příležitost prozkoumat fascinující svět ptáků a divoké přírody! \nČeská společnost ornitologická a Myslivecký spolek Strážov\, z.s. s nadšením představuje přednášku výjimečného ornitologa a zoologa Ing. Jiřího Vlčka\, který vás provede tajemstvím ptačího života a odkryje zajímavosti z oblasti ornitologie. \nDatum a čas:\nSobota\, 9. května 2026\, od 8:30 hod.\nMísto konání:\nMyslivecká chata v Mladoticích \nTento inspirující den je určen nejen všem příznivcům přírody\, ale také dětem\, rodičům a každému\, kdo chce objevit krásy okolního světa. Připravte se na poutavé příběhy\, nový pohled na faunu a společné chvíle mezi lidmi\, kteří sdílejí lásku k přírodě.\nTěšíme se na vás!
URL:https://mesto.strazov.cz/akce/vitani-ptaciho-zpevu-2026/
LOCATION:Myslivecká chata Mladotice\, Mladotice\, PK\, 34024\, Czech Republic
ATTACH;FMTTYPE=image/jpeg:https://mesto.strazov.cz/wp-content/uploads/2025/03/Priroda.jpg
END:VEVENT
BEGIN:VEVENT
DTSTART;TZID=Europe/Prague:20260516T130000
DTEND;TZID=Europe/Prague:20260516T170000
DTSTAMP:20260421T151454
CREATED:20260302T165744Z
LAST-MODIFIED:20260302T170538Z
UID:47690-1778936400-1778950800@mesto.strazov.cz
SUMMARY:Okrskovou hasičskou soutěž 2026
DESCRIPTION:Zveme vás na Okrskovou hasičskou soutěž\, kterou letos pořádá Sbor dobrovolných hasičů! \n \nAkce se uskuteční v sobotu 16. května 2026 od 13:00 hodin na hasičském cvičišti. Přijďte podpořit hasičské týmy\, užít si napínavou atmosféru soutěže a strávit příjemné odpoledne plné zábavy.
URL:https://mesto.strazov.cz/akce/okrskovou-hasicskou-soutez-2026/
LOCATION:PK
ATTACH;FMTTYPE=image/jpeg:https://mesto.strazov.cz/wp-content/uploads/2025/05/IMG_5076.jpg
END:VEVENT
BEGIN:VEVENT
DTSTART;TZID=Europe/Prague:20260618T130000
DTEND;TZID=Europe/Prague:20260618T170000
DTSTAMP:20260421T151454
CREATED:20260302T170707Z
LAST-MODIFIED:20260302T170707Z
UID:47699-1781787600-1781802000@mesto.strazov.cz
SUMMARY:Obvodová vyřazovací soutěž hasičů 2026
DESCRIPTION:Zveme vás na Okrskovou hasičskou soutěž\, kterou letos pořádá Sbor dobrovolných hasičů! \n \nAkce se uskuteční v sobotu 18. června 2026 od 13:00 hodin na hasičském cvičišti. Přijďte podpořit hasičské týmy\, užít si napínavou atmosféru soutěže a strávit příjemné odpoledne plné zábavy.
URL:https://mesto.strazov.cz/akce/obvodova-vyrazovaci-soutez-hasicu-2026/
LOCATION:PK
ATTACH;FMTTYPE=image/jpeg:https://mesto.strazov.cz/wp-content/uploads/2025/05/IMG_5076.jpg
END:VEVENT
BEGIN:VEVENT
DTSTART;TZID=Europe/Prague:20260620T213000
DTEND;TZID=Europe/Prague:20260620T233000
DTSTAMP:20260421T151454
CREATED:20260419T113224Z
LAST-MODIFIED:20260419T113404Z
UID:47841-1781991000-1781998200@mesto.strazov.cz
SUMMARY:Fantom z la Galette - rocková opera 2026
DESCRIPTION:Hrad Opálka u Strážova ožije 20. června 2026 rockovou operou Fantom z la Galette. Tvůrci úspěšného Kladiva na pýchu přivážejí nový příběh\, který diváky vtáhne do Paříže dvacátých let. Montmartre pulzuje hudbou\, šantány a kabarety a v tančírně Moulin de la Galette se rodí drama plné lásky\, moci a nenávisti. \n \nAutoři staví děj na silné atmosféře a na hudbě\, která střídá filmové\, symfonické\, rockové i popové prvky. Představení trvá 120 minut a nabídne energii i emoce pod širým nebem. \nAreál hradu otevírá hodinu před začátkem. Diváci si vybírají volné sezení bez místenek a garance jim umožňuje vstup do nečíslované zóny.
URL:https://mesto.strazov.cz/akce/fantom-z-la-galette-2026/
LOCATION:Hrad Opálka\, Opálka 1\, Strážov\, Plzeňský kraj\, 34021\, Czech Republic
ATTACH;FMTTYPE=image/jpeg:https://mesto.strazov.cz/wp-content/uploads/2026/04/hrad-opalka.jpg
END:VEVENT
END:VCALENDAR