BEGIN:VCALENDAR
VERSION:2.0
PRODID:-//Město Strážov a okolí - ECPv6.15.20//NONSGML v1.0//EN
CALSCALE:GREGORIAN
METHOD:PUBLISH
X-WR-CALNAME:Město Strážov a okolí
X-ORIGINAL-URL:https://mesto.strazov.cz
X-WR-CALDESC:Akce na Město Strážov a okolí
REFRESH-INTERVAL;VALUE=DURATION:PT1H
X-Robots-Tag:noindex
X-PUBLISHED-TTL:PT1H
BEGIN:VTIMEZONE
TZID:Europe/Prague
BEGIN:DAYLIGHT
TZOFFSETFROM:+0100
TZOFFSETTO:+0200
TZNAME:CEST
DTSTART:20250330T010000
END:DAYLIGHT
BEGIN:STANDARD
TZOFFSETFROM:+0200
TZOFFSETTO:+0100
TZNAME:CET
DTSTART:20251026T010000
END:STANDARD
BEGIN:DAYLIGHT
TZOFFSETFROM:+0100
TZOFFSETTO:+0200
TZNAME:CEST
DTSTART:20260329T010000
END:DAYLIGHT
BEGIN:STANDARD
TZOFFSETFROM:+0200
TZOFFSETTO:+0100
TZNAME:CET
DTSTART:20261025T010000
END:STANDARD
BEGIN:DAYLIGHT
TZOFFSETFROM:+0100
TZOFFSETTO:+0200
TZNAME:CEST
DTSTART:20270328T010000
END:DAYLIGHT
BEGIN:STANDARD
TZOFFSETFROM:+0200
TZOFFSETTO:+0100
TZNAME:CET
DTSTART:20271031T010000
END:STANDARD
END:VTIMEZONE
BEGIN:VEVENT
DTSTART;TZID=Europe/Prague:20260505T104500
DTEND;TZID=Europe/Prague:20260505T113000
DTSTAMP:20260421T170249
CREATED:20260405T051729Z
LAST-MODIFIED:20260405T051729Z
UID:47800-1777977900-1777980600@mesto.strazov.cz
SUMMARY:Kolona amerických vozidel 2026
DESCRIPTION:Zveme vás na jedinečnou podívanou\, která oživí strážovské náměstí v pondělí 5. května 2026. Do města dorazí kolona amerických historických vozidel a nabídne všem návštěvníkům skvělou příležitost zažít atmosféru\, která připomíná slavnou cestu armády generála Pattona. \nKdy a kde?\nNáměstí ve Strážově\n10:45–11:30 \nBěhem necelé hodiny budete mít možnost projít si kolonu zblízka\, obdivovat pečlivě udržované stroje a popovídat si s nadšenci z 4. obrněné Prácheňské jízdy\, kteří každoročně vyrážejí na symbolickou jízdu po stopách osvobozovacích jednotek. \nProč dorazit?\nUvidíte unikátní historická vozidla v perfektní kondici\, Poznáte příběhy lidí\, kteří se dlouhodobě věnují vojenské historii\, Zažijete atmosféru\, která připomíná významné okamžiky našich dějin\, Užijete si nevšední program přímo v centru města \nPřijďte si užít výjimečné dopoledne\nKolona projede Strážovem jen na krátkou chvíli\, tak si tuto příležitost nenechte utéct. Těšíme se na vás na náměstí! \nKolona amerických vozidel 2024 – Město Strážov a okolí
URL:https://mesto.strazov.cz/akce/kolona-americkych-vozidel-2026/
LOCATION:Náměstí ve Strážově\, Náměstí 71\, Strážov\, Plzeňský kraj\, 34021\, Czech Republic
ATTACH;FMTTYPE=image/jpeg:https://mesto.strazov.cz/wp-content/uploads/2025/04/IMG_4009.jpg
END:VEVENT
BEGIN:VEVENT
DTSTART;TZID=Europe/Prague:20260509T083000
DTEND;TZID=Europe/Prague:20260509T110000
DTSTAMP:20260421T170249
CREATED:20260419T111841Z
LAST-MODIFIED:20260419T111923Z
UID:47835-1778315400-1778324400@mesto.strazov.cz
SUMMARY:Vítání ptačího zpěvu 2026
DESCRIPTION:Rádi bychom vás srdečně pozvali na jedinečnou příležitost prozkoumat fascinující svět ptáků a divoké přírody! \nČeská společnost ornitologická a Myslivecký spolek Strážov\, z.s. s nadšením představuje přednášku výjimečného ornitologa a zoologa Ing. Jiřího Vlčka\, který vás provede tajemstvím ptačího života a odkryje zajímavosti z oblasti ornitologie. \nDatum a čas:\nSobota\, 9. května 2026\, od 8:30 hod.\nMísto konání:\nMyslivecká chata v Mladoticích \nTento inspirující den je určen nejen všem příznivcům přírody\, ale také dětem\, rodičům a každému\, kdo chce objevit krásy okolního světa. Připravte se na poutavé příběhy\, nový pohled na faunu a společné chvíle mezi lidmi\, kteří sdílejí lásku k přírodě.\nTěšíme se na vás!
URL:https://mesto.strazov.cz/akce/vitani-ptaciho-zpevu-2026/
LOCATION:Myslivecká chata Mladotice\, Mladotice\, PK\, 34024\, Czech Republic
ATTACH;FMTTYPE=image/jpeg:https://mesto.strazov.cz/wp-content/uploads/2025/03/Priroda.jpg
END:VEVENT
BEGIN:VEVENT
DTSTART;TZID=Europe/Prague:20260516T130000
DTEND;TZID=Europe/Prague:20260516T170000
DTSTAMP:20260421T170249
CREATED:20260302T165744Z
LAST-MODIFIED:20260302T170538Z
UID:47690-1778936400-1778950800@mesto.strazov.cz
SUMMARY:Okrskovou hasičskou soutěž 2026
DESCRIPTION:Zveme vás na Okrskovou hasičskou soutěž\, kterou letos pořádá Sbor dobrovolných hasičů! \n \nAkce se uskuteční v sobotu 16. května 2026 od 13:00 hodin na hasičském cvičišti. Přijďte podpořit hasičské týmy\, užít si napínavou atmosféru soutěže a strávit příjemné odpoledne plné zábavy.
URL:https://mesto.strazov.cz/akce/okrskovou-hasicskou-soutez-2026/
LOCATION:PK
ATTACH;FMTTYPE=image/jpeg:https://mesto.strazov.cz/wp-content/uploads/2025/05/IMG_5076.jpg
END:VEVENT
BEGIN:VEVENT
DTSTART;TZID=Europe/Prague:20260618T130000
DTEND;TZID=Europe/Prague:20260618T170000
DTSTAMP:20260421T170249
CREATED:20260302T170707Z
LAST-MODIFIED:20260302T170707Z
UID:47699-1781787600-1781802000@mesto.strazov.cz
SUMMARY:Obvodová vyřazovací soutěž hasičů 2026
DESCRIPTION:Zveme vás na Okrskovou hasičskou soutěž\, kterou letos pořádá Sbor dobrovolných hasičů! \n \nAkce se uskuteční v sobotu 18. června 2026 od 13:00 hodin na hasičském cvičišti. Přijďte podpořit hasičské týmy\, užít si napínavou atmosféru soutěže a strávit příjemné odpoledne plné zábavy.
URL:https://mesto.strazov.cz/akce/obvodova-vyrazovaci-soutez-hasicu-2026/
LOCATION:PK
ATTACH;FMTTYPE=image/jpeg:https://mesto.strazov.cz/wp-content/uploads/2025/05/IMG_5076.jpg
END:VEVENT
BEGIN:VEVENT
DTSTART;TZID=Europe/Prague:20260620T213000
DTEND;TZID=Europe/Prague:20260620T233000
DTSTAMP:20260421T170249
CREATED:20260419T113224Z
LAST-MODIFIED:20260419T113404Z
UID:47841-1781991000-1781998200@mesto.strazov.cz
SUMMARY:Fantom z la Galette - rocková opera 2026
DESCRIPTION:Hrad Opálka u Strážova ožije 20. června 2026 rockovou operou Fantom z la Galette. Tvůrci úspěšného Kladiva na pýchu přivážejí nový příběh\, který diváky vtáhne do Paříže dvacátých let. Montmartre pulzuje hudbou\, šantány a kabarety a v tančírně Moulin de la Galette se rodí drama plné lásky\, moci a nenávisti. \n \nAutoři staví děj na silné atmosféře a na hudbě\, která střídá filmové\, symfonické\, rockové i popové prvky. Představení trvá 120 minut a nabídne energii i emoce pod širým nebem. \nAreál hradu otevírá hodinu před začátkem. Diváci si vybírají volné sezení bez místenek a garance jim umožňuje vstup do nečíslované zóny.
URL:https://mesto.strazov.cz/akce/fantom-z-la-galette-2026/
LOCATION:Hrad Opálka\, Opálka 1\, Strážov\, Plzeňský kraj\, 34021\, Czech Republic
ATTACH;FMTTYPE=image/jpeg:https://mesto.strazov.cz/wp-content/uploads/2026/04/hrad-opalka.jpg
END:VEVENT
END:VCALENDAR